BEGIN:VCALENDAR
PRODID:-//github.com/rianjs/ical.net//NONSGML ical.net 4.0//EN
VERSION:2.0
BEGIN:VTIMEZONE
TZID:Eastern Standard Time
X-LIC-LOCATION:America/New_York
BEGIN:STANDARD
DTSTART:20241103T020000
RRULE:FREQ=YEARLY;BYDAY=1SU;BYMONTH=11
TZNAME:EST
TZOFFSETFROM:-0400
TZOFFSETTO:-0500
END:STANDARD
BEGIN:DAYLIGHT
DTSTART:20250309T020000
RRULE:FREQ=YEARLY;BYDAY=2SU;BYMONTH=3
TZNAME:EDT
TZOFFSETFROM:-0500
TZOFFSETTO:-0400
END:DAYLIGHT
END:VTIMEZONE
BEGIN:VEVENT
DTEND;TZID=Eastern Standard Time:20260527T120000
DTSTAMP:20260422T170818Z
DTSTART;TZID=Eastern Standard Time:20260527T100000
LOCATION:9841 Broken Land Parkway Suite 206 Columbia\, MD 21046 United Sta
 tes
ORGANIZER;CN=;SENT-BY="mailto:":
SEQUENCE:0
SUMMARY:RAM: RAM Alcohol Awareness Exam
UID:2c7f6c80-fdf5-4b71-ad8c-aea6e62bca35
END:VEVENT
END:VCALENDAR
