BEGIN:VCALENDAR
PRODID:-//github.com/rianjs/ical.net//NONSGML ical.net 4.0//EN
VERSION:2.0
BEGIN:VTIMEZONE
TZID:Eastern Standard Time
X-LIC-LOCATION:America/New_York
BEGIN:STANDARD
DTSTART:20241103T020000
RRULE:FREQ=YEARLY;BYDAY=1SU;BYMONTH=11
TZNAME:EST
TZOFFSETFROM:-0400
TZOFFSETTO:-0500
END:STANDARD
BEGIN:DAYLIGHT
DTSTART:20250309T020000
RRULE:FREQ=YEARLY;BYDAY=2SU;BYMONTH=3
TZNAME:EDT
TZOFFSETFROM:-0500
TZOFFSETTO:-0400
END:DAYLIGHT
END:VTIMEZONE
BEGIN:VEVENT
DTEND;TZID=Eastern Standard Time:20260714T170000
DTSTAMP:20260422T170838Z
DTSTART;TZID=Eastern Standard Time:20260713T090000
LOCATION:9861 Building 9861 Broken Land Parkway Columbia\, MD 21046 United
  States
ORGANIZER;CN=;SENT-BY="mailto:":
SEQUENCE:0
SUMMARY:RAM: 2-Day ServSafe Food Manager Certification Class - Columbia\, 
 MD
UID:79f6f6a2-81b3-4b57-98d4-7bd7c4e1db07
END:VEVENT
END:VCALENDAR
