BEGIN:VCALENDAR
PRODID:-//github.com/rianjs/ical.net//NONSGML ical.net 4.0//EN
VERSION:2.0
BEGIN:VTIMEZONE
TZID:Eastern Standard Time
X-LIC-LOCATION:America/New_York
BEGIN:STANDARD
DTSTART:20241103T020000
RRULE:FREQ=YEARLY;BYDAY=1SU;BYMONTH=11
TZNAME:EST
TZOFFSETFROM:-0400
TZOFFSETTO:-0500
END:STANDARD
BEGIN:DAYLIGHT
DTSTART:20250309T020000
RRULE:FREQ=YEARLY;BYDAY=2SU;BYMONTH=3
TZNAME:EDT
TZOFFSETFROM:-0500
TZOFFSETTO:-0400
END:DAYLIGHT
END:VTIMEZONE
BEGIN:VEVENT
DTEND;TZID=Eastern Standard Time:20260805T170000
DTSTAMP:20260422T172224Z
DTSTART;TZID=Eastern Standard Time:20260804T090000
LOCATION:9861 Building 9861 Broken Land Parkway Columbia\, MD 21046 United
  States
ORGANIZER;CN=;SENT-BY="mailto:":
SEQUENCE:0
SUMMARY:RAM: 2-Day ServSafe Food Manager Certification Class - Columbia\, 
 MD
UID:bd846c39-e949-46f1-92c4-f6b25542ec55
END:VEVENT
END:VCALENDAR
